BEGIN:VCALENDAR
VERSION:2.0
PRODID:-//Harrow &amp; Colchester South Chamber of Commerce - ECPv6.15.20//NONSGML v1.0//EN
CALSCALE:GREGORIAN
METHOD:PUBLISH
X-WR-CALNAME:Harrow &amp; Colchester South Chamber of Commerce
X-ORIGINAL-URL:https://visitharrow.ca
X-WR-CALDESC:Events for Harrow &amp; Colchester South Chamber of Commerce
REFRESH-INTERVAL;VALUE=DURATION:PT1H
X-Robots-Tag:noindex
X-PUBLISHED-TTL:PT1H
BEGIN:VTIMEZONE
TZID:America/Detroit
BEGIN:DAYLIGHT
TZOFFSETFROM:-0500
TZOFFSETTO:-0400
TZNAME:EDT
DTSTART:20220313T070000
END:DAYLIGHT
BEGIN:STANDARD
TZOFFSETFROM:-0400
TZOFFSETTO:-0500
TZNAME:EST
DTSTART:20221106T060000
END:STANDARD
BEGIN:DAYLIGHT
TZOFFSETFROM:-0500
TZOFFSETTO:-0400
TZNAME:EDT
DTSTART:20230312T070000
END:DAYLIGHT
BEGIN:STANDARD
TZOFFSETFROM:-0400
TZOFFSETTO:-0500
TZNAME:EST
DTSTART:20231105T060000
END:STANDARD
BEGIN:DAYLIGHT
TZOFFSETFROM:-0500
TZOFFSETTO:-0400
TZNAME:EDT
DTSTART:20240310T070000
END:DAYLIGHT
BEGIN:STANDARD
TZOFFSETFROM:-0400
TZOFFSETTO:-0500
TZNAME:EST
DTSTART:20241103T060000
END:STANDARD
BEGIN:DAYLIGHT
TZOFFSETFROM:-0500
TZOFFSETTO:-0400
TZNAME:EDT
DTSTART:20250309T070000
END:DAYLIGHT
BEGIN:STANDARD
TZOFFSETFROM:-0400
TZOFFSETTO:-0500
TZNAME:EST
DTSTART:20251102T060000
END:STANDARD
BEGIN:DAYLIGHT
TZOFFSETFROM:-0500
TZOFFSETTO:-0400
TZNAME:EDT
DTSTART:20260308T070000
END:DAYLIGHT
BEGIN:STANDARD
TZOFFSETFROM:-0400
TZOFFSETTO:-0500
TZNAME:EST
DTSTART:20261101T060000
END:STANDARD
BEGIN:DAYLIGHT
TZOFFSETFROM:-0500
TZOFFSETTO:-0400
TZNAME:EDT
DTSTART:20270314T070000
END:DAYLIGHT
BEGIN:STANDARD
TZOFFSETFROM:-0400
TZOFFSETTO:-0500
TZNAME:EST
DTSTART:20271107T060000
END:STANDARD
END:VTIMEZONE
BEGIN:VEVENT
DTSTART;TZID=America/Detroit:20261117T120000
DTEND;TZID=America/Detroit:20261117T130000
DTSTAMP:20260420T021332
CREATED:20260319T133125Z
LAST-MODIFIED:20260407T135102Z
UID:10000252-1794916800-1794920400@visitharrow.ca
SUMMARY:Harrow and Colchester Chamber of Commerce – Monthly Meeting
DESCRIPTION:We welcome you to attend our monthly meeting on the 3rd Tuesday of each month via Zoom! \nPlease email harrowcolchestersouthchamber@gmail.com for a meeting link.
URL:https://visitharrow.ca/event/harrow-and-colchester-chamber-of-commerce-monthly-meeting-3/2026-11-17/
CATEGORIES:Featured Event
END:VEVENT
BEGIN:VEVENT
DTSTART;TZID=America/Detroit:20261020T120000
DTEND;TZID=America/Detroit:20261020T130000
DTSTAMP:20260420T021332
CREATED:20260319T133125Z
LAST-MODIFIED:20260407T135102Z
UID:10000251-1792497600-1792501200@visitharrow.ca
SUMMARY:Harrow and Colchester Chamber of Commerce – Monthly Meeting
DESCRIPTION:We welcome you to attend our monthly meeting on the 3rd Tuesday of each month via Zoom! \nPlease email harrowcolchestersouthchamber@gmail.com for a meeting link.
URL:https://visitharrow.ca/event/harrow-and-colchester-chamber-of-commerce-monthly-meeting-3/2026-10-20/
CATEGORIES:Featured Event
END:VEVENT
BEGIN:VEVENT
DTSTART;TZID=America/Detroit:20260915T120000
DTEND;TZID=America/Detroit:20260915T130000
DTSTAMP:20260420T021332
CREATED:20260319T133125Z
LAST-MODIFIED:20260407T135102Z
UID:10000250-1789473600-1789477200@visitharrow.ca
SUMMARY:Harrow and Colchester Chamber of Commerce – Monthly Meeting
DESCRIPTION:We welcome you to attend our monthly meeting on the 3rd Tuesday of each month via Zoom! \nPlease email harrowcolchestersouthchamber@gmail.com for a meeting link.
URL:https://visitharrow.ca/event/harrow-and-colchester-chamber-of-commerce-monthly-meeting-3/2026-09-15/
CATEGORIES:Featured Event
END:VEVENT
BEGIN:VEVENT
DTSTART;TZID=America/Detroit:20260818T120000
DTEND;TZID=America/Detroit:20260818T130000
DTSTAMP:20260420T021332
CREATED:20260319T133125Z
LAST-MODIFIED:20260407T135102Z
UID:10000249-1787054400-1787058000@visitharrow.ca
SUMMARY:Harrow and Colchester Chamber of Commerce – Monthly Meeting
DESCRIPTION:We welcome you to attend our monthly meeting on the 3rd Tuesday of each month via Zoom! \nPlease email harrowcolchestersouthchamber@gmail.com for a meeting link.
URL:https://visitharrow.ca/event/harrow-and-colchester-chamber-of-commerce-monthly-meeting-3/2026-08-18/
CATEGORIES:Featured Event
END:VEVENT
BEGIN:VEVENT
DTSTART;TZID=America/Detroit:20260721T120000
DTEND;TZID=America/Detroit:20260721T130000
DTSTAMP:20260420T021332
CREATED:20260319T133125Z
LAST-MODIFIED:20260407T135102Z
UID:10000248-1784635200-1784638800@visitharrow.ca
SUMMARY:Harrow and Colchester Chamber of Commerce – Monthly Meeting
DESCRIPTION:We welcome you to attend our monthly meeting on the 3rd Tuesday of each month via Zoom! \nPlease email harrowcolchestersouthchamber@gmail.com for a meeting link.
URL:https://visitharrow.ca/event/harrow-and-colchester-chamber-of-commerce-monthly-meeting-3/2026-07-21/
CATEGORIES:Featured Event
END:VEVENT
BEGIN:VEVENT
DTSTART;TZID=America/Detroit:20260616T120000
DTEND;TZID=America/Detroit:20260616T130000
DTSTAMP:20260420T021332
CREATED:20260319T133125Z
LAST-MODIFIED:20260407T135102Z
UID:10000247-1781611200-1781614800@visitharrow.ca
SUMMARY:Harrow and Colchester Chamber of Commerce – Monthly Meeting
DESCRIPTION:We welcome you to attend our monthly meeting on the 3rd Tuesday of each month via Zoom! \nPlease email harrowcolchestersouthchamber@gmail.com for a meeting link.
URL:https://visitharrow.ca/event/harrow-and-colchester-chamber-of-commerce-monthly-meeting-3/2026-06-16/
CATEGORIES:Featured Event
END:VEVENT
BEGIN:VEVENT
DTSTART;TZID=America/Detroit:20260519T120000
DTEND;TZID=America/Detroit:20260519T130000
DTSTAMP:20260420T021332
CREATED:20260319T133125Z
LAST-MODIFIED:20260407T135102Z
UID:10000246-1779192000-1779195600@visitharrow.ca
SUMMARY:Harrow and Colchester Chamber of Commerce – Monthly Meeting
DESCRIPTION:We welcome you to attend our monthly meeting on the 3rd Tuesday of each month via Zoom! \nPlease email harrowcolchestersouthchamber@gmail.com for a meeting link.
URL:https://visitharrow.ca/event/harrow-and-colchester-chamber-of-commerce-monthly-meeting-3/2026-05-19/
CATEGORIES:Featured Event
END:VEVENT
BEGIN:VEVENT
DTSTART;TZID=America/Detroit:20260421T120000
DTEND;TZID=America/Detroit:20260421T130000
DTSTAMP:20260420T021332
CREATED:20260319T133125Z
LAST-MODIFIED:20260407T135102Z
UID:10000245-1776772800-1776776400@visitharrow.ca
SUMMARY:Harrow and Colchester Chamber of Commerce – Monthly Meeting
DESCRIPTION:We welcome you to attend our monthly meeting on the 3rd Tuesday of each month via Zoom! \nPlease email harrowcolchestersouthchamber@gmail.com for a meeting link.
URL:https://visitharrow.ca/event/harrow-and-colchester-chamber-of-commerce-monthly-meeting-3/2026-04-21/
CATEGORIES:Featured Event
END:VEVENT
BEGIN:VEVENT
DTSTART;TZID=America/Detroit:20260304T180000
DTEND;TZID=America/Detroit:20260304T200000
DTSTAMP:20260420T021332
CREATED:20260219T195441Z
LAST-MODIFIED:20260219T195739Z
UID:10000235-1772647200-1772654400@visitharrow.ca
SUMMARY:Balanced Power: The Future of Feminine Leadership
DESCRIPTION:Women’s Event hosted by the Harrow & Colchester South Chamber of Commerce \nDate: Wednesday\, March 4\, 2026\nTime: 6:00pm ~ 8:00pm\nLocation: King St. Café 24 King St. W. Harrow \nAn intimate\, embodied keynote for women in business that redefines gender equality beyond performance and polarity. This talk explores the integration of divine feminine wisdom and grounded masculine structure as the foundation of true leadership\, wealth\, and impact. It invites women to move beyond hustle\, hardness\, and imitation\, and into coherence\, presence\, and embodied authority. Not about becoming louder. Not about becoming harder. But about becoming whole. \nTickets:\nChamber Members: $15\nFuture Members: $25 \nContact: Corrine Bridger ~ 519-965-6361 | corrineinharrow@gmail.com\nTickets: https://visitharrow.ca/rsvp/
URL:https://visitharrow.ca/event/balanced-power-the-future-of-feminine-leadership/
LOCATION:King St. Cafe\, 24 King St. W.\, Harrow\, Ontario\, N0R 1G0\, Canada
ATTACH;FMTTYPE=image/jpeg:https://visitharrow.ca/wp-content/uploads/2026/02/International-Womens-Day-Event-Poster.jpg
END:VEVENT
BEGIN:VEVENT
DTSTART;TZID=America/Detroit:20260212T190000
DTEND;TZID=America/Detroit:20260212T203000
DTSTAMP:20260420T021332
CREATED:20251229T151031Z
LAST-MODIFIED:20251230T224228Z
UID:10000234-1770922800-1770928200@visitharrow.ca
SUMMARY:2026 Annual General Meeting
DESCRIPTION:We are excited to invite you to this year’s Annual General Meeting (AGM)\, a wonderful opportunity to connect with fellow members\, strengthen relationships within our business community\, and get a first look at the exciting initiatives the Chamber has planned for the year ahead. \nThis year’s AGM will feature special guest speaker Frank Abbruzzese\, an award-winning tech leader and renowned community connector who will bring inspiring insights on innovation\, leadership\, and the power of networking. We’re thrilled to have him join us\, and we know you’ll find his message both energizing and relevant to your business. \nAttached\, you’ll find the official event flyer with all the details\, as well as the proposed by-laws\, which will be reviewed and voted on during the meeting. Your participation is important\, and we encourage all members to attend\, engage\, and have your voice heard. \nWe hope you’ll join us for an evening of connection\, conversation\, and community-building as we kick off another exciting year together. \nPlease RSVP here! \nIf you have any questions\, please don’t hesitate to reach out.
URL:https://visitharrow.ca/event/2026-annual-general-meeting/
LOCATION:Harrow Arena\, 243 McAffee St.\, Harrow\, Ontario\, N0R 1G0\, Canada
CATEGORIES:Featured Event
ATTACH;FMTTYPE=image/jpeg:https://visitharrow.ca/wp-content/uploads/2025/12/Annual-General-Meeting-2026.jpg
END:VEVENT
BEGIN:VEVENT
DTSTART;TZID=America/Detroit:20250926T170000
DTEND;TZID=America/Detroit:20250926T200000
DTSTAMP:20260420T021332
CREATED:20250414T180702Z
LAST-MODIFIED:20250414T180702Z
UID:10000173-1758906000-1758916800@visitharrow.ca
SUMMARY:"Open Streets" Harrow Friday September 26th from 5-8pm
DESCRIPTION:The Harrow and Colchester South Chamber of Commerce will be hosting  an “Open Street” on Friday\, September 26th from 5 to 8 pm.  If you would like to put up a vendor booth for your business\, please send an email to connect@daisyco.net. \nEnjoy an evening in downtown Harrow featuring 30+ vendors\, a magician\, live music\, food trucks\, coffee and much more!
URL:https://visitharrow.ca/event/open-streets-harrow-friday-september-26th-from-5-8pm/
CATEGORIES:Featured Event
END:VEVENT
BEGIN:VEVENT
DTSTART;TZID=America/Detroit:20250717T081500
DTEND;TZID=America/Detroit:20250717T093000
DTSTAMP:20260420T021332
CREATED:20250331T132619Z
LAST-MODIFIED:20250331T133108Z
UID:10000115-1752740100-1752744600@visitharrow.ca
SUMMARY:Harrow and Colchester Chamber of Commerce - Monthly Meeting
DESCRIPTION:We welcome you to attend our monthly meeting on the 3rd Thursday of each month via Zoom! \nPlease email harrowcolchestersouthchamber@gmail.com for a meeting link.
URL:https://visitharrow.ca/event/harrow-and-colchester-chamber-of-commerce-monthly-meeting-2/2025-07-17/
END:VEVENT
BEGIN:VEVENT
DTSTART;TZID=America/Detroit:20250627T170000
DTEND;TZID=America/Detroit:20250627T200000
DTSTAMP:20260420T021332
CREATED:20250414T180626Z
LAST-MODIFIED:20250609T133436Z
UID:10000172-1751043600-1751054400@visitharrow.ca
SUMMARY:"Open Streets" Harrow Friday June 27th from 5-8pm
DESCRIPTION:The Harrow and Colchester South Chamber of Commerce will be hosting  an “Open Street” on Friday\, June 27th from 5 to 8 pm.  If you would like to put up a vendor booth for your business\, please send an email to connect@daisyco.net. \nEnjoy an evening in downtown Harrow featuring 30+ vendors\, a magician\, live music\, food trucks\, coffee and much more!
URL:https://visitharrow.ca/event/open-streets-harrow-friday-june-27th-from-5-8pm/
CATEGORIES:Featured Event
ATTACH;FMTTYPE=image/jpeg:https://visitharrow.ca/wp-content/uploads/2025/04/Chamber-of-Commerce-Open-Streets-JUNE-2025.jpg
END:VEVENT
BEGIN:VEVENT
DTSTART;TZID=America/Detroit:20250619T081500
DTEND;TZID=America/Detroit:20250619T093000
DTSTAMP:20260420T021332
CREATED:20250331T132619Z
LAST-MODIFIED:20250331T133108Z
UID:10000114-1750320900-1750325400@visitharrow.ca
SUMMARY:Harrow and Colchester Chamber of Commerce - Monthly Meeting
DESCRIPTION:We welcome you to attend our monthly meeting on the 3rd Thursday of each month via Zoom! \nPlease email harrowcolchestersouthchamber@gmail.com for a meeting link.
URL:https://visitharrow.ca/event/harrow-and-colchester-chamber-of-commerce-monthly-meeting-2/2025-06-19/
END:VEVENT
BEGIN:VEVENT
DTSTART;TZID=America/Detroit:20250515T081500
DTEND;TZID=America/Detroit:20250515T093000
DTSTAMP:20260420T021332
CREATED:20250331T132619Z
LAST-MODIFIED:20250331T133108Z
UID:10000113-1747296900-1747301400@visitharrow.ca
SUMMARY:Harrow and Colchester Chamber of Commerce - Monthly Meeting
DESCRIPTION:We welcome you to attend our monthly meeting on the 3rd Thursday of each month via Zoom! \nPlease email harrowcolchestersouthchamber@gmail.com for a meeting link.
URL:https://visitharrow.ca/event/harrow-and-colchester-chamber-of-commerce-monthly-meeting-2/2025-05-15/
END:VEVENT
BEGIN:VEVENT
DTSTART;TZID=America/Detroit:20250417T081500
DTEND;TZID=America/Detroit:20250417T093000
DTSTAMP:20260420T021332
CREATED:20250331T132619Z
LAST-MODIFIED:20250331T133108Z
UID:10000112-1744877700-1744882200@visitharrow.ca
SUMMARY:Harrow and Colchester Chamber of Commerce - Monthly Meeting
DESCRIPTION:We welcome you to attend our monthly meeting on the 3rd Thursday of each month via Zoom! \nPlease email harrowcolchestersouthchamber@gmail.com for a meeting link.
URL:https://visitharrow.ca/event/harrow-and-colchester-chamber-of-commerce-monthly-meeting-2/2025-04-17/
END:VEVENT
BEGIN:VEVENT
DTSTART;TZID=America/Detroit:20250328T103000
DTEND;TZID=America/Detroit:20250328T123000
DTSTAMP:20260420T021332
CREATED:20250326T140822Z
LAST-MODIFIED:20250326T140842Z
UID:10000051-1743157800-1743165000@visitharrow.ca
SUMMARY:Fraud Protection and Awareness
DESCRIPTION:Fraud Protection & Awareness Event \nHarrow Legion and the Harrow & Colchester South Chamber of Commerce are partnering with the O.P.P. Community Services to host this Free information session! \nJoin us Friday March 28th at 10:30am at the Harrow Legion 37 McAffee St.
URL:https://visitharrow.ca/event/fraud-protection-and-awareness-2/
LOCATION:Harrow Legion\, 37 McAffee Street\, Harrow\, Ontario\, Canada
CATEGORIES:Featured Event
ATTACH;FMTTYPE=image/png:https://visitharrow.ca/wp-content/uploads/2025/03/Fraud-Protection-2025.png
END:VEVENT
BEGIN:VEVENT
DTSTART;TZID=America/Detroit:20250306T190000
DTEND;TZID=America/Detroit:20250306T200000
DTSTAMP:20260420T021332
CREATED:20250210T205210Z
LAST-MODIFIED:20250210T205235Z
UID:10000050-1741287600-1741291200@visitharrow.ca
SUMMARY:2025 Annual General Meeting
DESCRIPTION:Please join the Harrow & Colchester South Chamber of Commerce at our Annual General Meeting (AGM) on Thursday March 6th\, 2025 at the Harrow Arena Community Room at 7:00pm for snacks & refreshments. Please also let us know if you are interested in sitting on the Board of Directors.
URL:https://visitharrow.ca/event/2025-annual-general-meeting/
LOCATION:Harrow Arena\, 243 McAffee St.\, Harrow\, Ontario\, N0R 1G0\, Canada
CATEGORIES:Featured Event
ATTACH;FMTTYPE=image/jpeg:https://visitharrow.ca/wp-content/uploads/2025/02/Harrow-Colchester-South-Chamber-AGM.jpg
END:VEVENT
BEGIN:VEVENT
DTSTART;TZID=America/Detroit:20250205T173000
DTEND;TZID=America/Detroit:20250205T193000
DTSTAMP:20260420T021332
CREATED:20250115T190204Z
LAST-MODIFIED:20250115T190204Z
UID:10000049-1738776600-1738783800@visitharrow.ca
SUMMARY:Estate Essentials Seminar
DESCRIPTION:Estate planning gets to the heart of why you take care of yourself\, your family and your wealth – and that’s why you need to include it in your financial plans. Join us to learn about key information to help make your estate planning journey a smooth one. \nWednesday\, February 5 | 5:30 – 7:30 pm\nHarrow Arena Community Room\, 243 McAffee St.\, Harrow \nFree admission\, appetizers & refreshments provided
URL:https://visitharrow.ca/event/estate-essentials-seminar/
LOCATION:Harrow Arena\, 243 McAffee St.\, Harrow\, Ontario\, N0R 1G0\, Canada
CATEGORIES:Featured Event
ATTACH;FMTTYPE=image/jpeg:https://visitharrow.ca/wp-content/uploads/2025/01/Social-Post_SQUARE.jpg
END:VEVENT
BEGIN:VEVENT
DTSTART;TZID=America/Detroit:20241005T130000
DTEND;TZID=America/Detroit:20241005T180000
DTSTAMP:20260420T021332
CREATED:20240906T145151Z
LAST-MODIFIED:20240906T145423Z
UID:10000048-1728133200-1728151200@visitharrow.ca
SUMMARY:2nd Annual Project Hope Windsor-Essex - Hunt For Hope
DESCRIPTION:A community-wide scavenger hunt to raise funds for the Harrow Community Pantry! Saturday October 5th from 1-6:00.  \nThis community-wide scavenger hunt was a massive success last year. Participants had a blast solving clues\, then enjoyed dinner\, awards\, and prizes. \n12 teams participated in 2023\, raising $13\,750 for the Harrow Community Pantry from our teams\, pledges\, and 31 sponsors. We’re looking to top those numbers this year! \nIf you’re considering registering a team of 2-6 hunters\, don’t miss the early bird discount period before September 14th.   \nEarly Bird pricing (September 1-14) = $150\nRegular pricing (September 15-28) = $200
URL:https://visitharrow.ca/event/2nd-annual-project-hope-windsor-essex-hunt-for-hope/
LOCATION:Harrow\, Ontario
CATEGORIES:Featured Event
ATTACH;FMTTYPE=image/jpeg:https://visitharrow.ca/wp-content/uploads/2024/09/project-hope.jpg
END:VEVENT
BEGIN:VEVENT
DTSTART;TZID=America/Detroit:20240927T170000
DTEND;TZID=America/Detroit:20240927T200000
DTSTAMP:20260420T021332
CREATED:20240812T132031Z
LAST-MODIFIED:20240812T132142Z
UID:10000047-1727456400-1727467200@visitharrow.ca
SUMMARY:"Open Streets" Harrow Friday September 27th from 5-8pm
DESCRIPTION:The Harrow and Colchester South Chamber of Commerce will be hosting  an “Open Street” on Friday\, September 27th from 5 to 8 pm.  If you would like to put up a vendor booth for your business\, please send an email to connect@daisyco.net. \nEnjoy an evening in downtown Harrow featuring 30+ vendors\, a magician\, live music\, food trucks\, coffee and much more!
URL:https://visitharrow.ca/event/open-streets-harrow-friday-september-27th-from-5-8pm/
CATEGORIES:Featured Event
END:VEVENT
BEGIN:VEVENT
DTSTART;TZID=America/Detroit:20240628T170000
DTEND;TZID=America/Detroit:20240628T200000
DTSTAMP:20260420T021332
CREATED:20240611T134322Z
LAST-MODIFIED:20240611T134322Z
UID:10000046-1719594000-1719604800@visitharrow.ca
SUMMARY:"Open Streets" Harrow Friday June 28th from 5-8pm
DESCRIPTION:The Harrow and Colchester South Chamber of Commerce will be hosting  an “Open Street” on Friday\, June 28th from 5 to 8 pm.  If you would like to put up a vendor booth for your business\, please send an email to jillmarontate@gmail.com. \nEnjoy an evening in downtown Harrow featuring 30+ vendors\, a magician\, live music\, food trucks\, coffee and much more!
URL:https://visitharrow.ca/event/open-streets-harrow-friday-june-28th-from-5-8pm/
CATEGORIES:Featured Event
ATTACH;FMTTYPE=image/png:https://visitharrow.ca/wp-content/uploads/2024/06/harrow-open-streets.png
END:VEVENT
BEGIN:VEVENT
DTSTART;TZID=America/Detroit:20240515T190000
DTEND;TZID=America/Detroit:20240515T203000
DTSTAMP:20260420T021332
CREATED:20240504T161854Z
LAST-MODIFIED:20240504T161854Z
UID:10000045-1715799600-1715805000@visitharrow.ca
SUMMARY:Business Networking Social
DESCRIPTION:You’re Invited to the Harrow & Colchester South Chamber of Commerce Business Networking Social taking place Wednesday May 15th\, 2024 from 7-8:30pm at Daisy & Co. Wine Bar! \nTickets:\n$10 – Members\n$15 – Future Members  \nTicket includes a drink and apps. Special gift for all members. Business card draw and door prizes! \nContact: Corrine Bridger\ncorrineinharrow@gmail.com
URL:https://visitharrow.ca/event/business-networking-social/
LOCATION:Daisy & Co. Wine Bar\, 41 King St.\, Harrow\, Ontario\, N0R 1V0\, Canada
CATEGORIES:Featured Event
ATTACH;FMTTYPE=image/png:https://visitharrow.ca/wp-content/uploads/2024/05/Chamber-event-May-15-2.png
END:VEVENT
BEGIN:VEVENT
DTSTART;TZID=America/Detroit:20240322T110000
DTEND;TZID=America/Detroit:20240322T170000
DTSTAMP:20260420T021332
CREATED:20240321T184132Z
LAST-MODIFIED:20240321T184132Z
UID:10000044-1711105200-1711126800@visitharrow.ca
SUMMARY:Fraud Protection and Awareness
DESCRIPTION:Fraud Protection & Awareness Event \nHarrow Legion and the Harrow & Colchester South Chamber of Commerce are partnering with the O.P.P. Community Services to host this Free information session! \nJoin us Friday March 22nd at 11am at the Harrow Legion 37 McAffee St.
URL:https://visitharrow.ca/event/fraud-protection-and-awareness/
LOCATION:Harrow Legion\, 37 McAffee Street\, Harrow\, Ontario\, Canada
CATEGORIES:Featured Event
ATTACH;FMTTYPE=image/jpeg:https://visitharrow.ca/wp-content/uploads/2024/03/Fraud-Awareness.jpg
END:VEVENT
BEGIN:VEVENT
DTSTART;TZID=America/Detroit:20240210T123000
DTEND;TZID=America/Detroit:20240210T160000
DTSTAMP:20260420T021332
CREATED:20240202T144011Z
LAST-MODIFIED:20240202T144130Z
UID:10000043-1707568200-1707580800@visitharrow.ca
SUMMARY:2nd Annual Ice Festival
DESCRIPTION:The Harrow Rotary Club and the Harrow & Colchester South Chamber of Commerce present the 2nd Annual Ice Festival!  \nDate: Saturday February 10th\nPlace: Uptown Harrow (King St. & Victoria)\nTime: 12:30pm – 4:00pm \nActivities include: road hockey\, scavenger hunt\, football toss and much  more! BBQ\, hot chocolate and cookies available. Fun for the entire family!
URL:https://visitharrow.ca/event/2nd-annual-ice-festival/
LOCATION:Harrow\, Ontario
CATEGORIES:Featured Event
ATTACH;FMTTYPE=image/jpeg:https://visitharrow.ca/wp-content/uploads/2024/02/2nd-ice-festival.jpg
END:VEVENT
BEGIN:VEVENT
DTSTART;TZID=America/Detroit:20240118T190000
DTEND;TZID=America/Detroit:20240118T200000
DTSTAMP:20260420T021332
CREATED:20240104T001531Z
LAST-MODIFIED:20240110T145324Z
UID:10000042-1705604400-1705608000@visitharrow.ca
SUMMARY:2024 Annual General Meeting
DESCRIPTION:Please join the Harrow & Colchester South Chamber of Commerce at our Annual General Meeting (AGM) on Thursday January 18\, 2024 at the Harrow Arena Community Room at 7:00pm for snacks & refreshments. Please also let us know if you are interested in sitting on the Board of Directors. \nAttendees will have a chance to win 1 of 3 $50 gift certificates!
URL:https://visitharrow.ca/event/2024-annual-general-meeting/
LOCATION:Harrow Arena\, 243 McAffee St.\, Harrow\, Ontario\, N0R 1G0\, Canada
CATEGORIES:Featured Event
ATTACH;FMTTYPE=image/jpeg:https://visitharrow.ca/wp-content/uploads/2022/12/2023-annual-general-meeting.jpg
END:VEVENT
BEGIN:VEVENT
DTSTART;TZID=America/Detroit:20231026T190000
DTEND;TZID=America/Detroit:20231026T210000
DTSTAMP:20260420T021332
CREATED:20231005T011846Z
LAST-MODIFIED:20231011T130544Z
UID:10000041-1698346800-1698354000@visitharrow.ca
SUMMARY:Partners in Progress - Vehicle Electrification Fire Side Chat
DESCRIPTION:Join us for our “Partners in Progress” – Vehicle Electrification Fire Side Chat with Dan Vincent on October 26th\, 2023 at the Colchester Community Centre. \nLet’s dive into the topic of Vehicle Electrification and Electric Vehicles (EVs)\, covering their history\, types\, operation\, consumer concerns and EV battery charging. We’ll also discuss different charger types\, levels\, their advantages and disadvantages and the cost of use. Finally\, we’ll explore how to create an Electric Vehicle charging event to promote EV adoption and increase foot traffic. \nSpeaker Details:\nDan Vincent\n– Vehicle Electrification Professor\n– North America Certified\n– EVPro – SAE Electric Vehicle Level 1\n– Electric Vehicle Certified Instructor\n– Switch Vehicle\n– Legacy EV Electric Vehicle Technician Certification \nFree for Members of the Harrow & Colchester South Chamber of Commerce and $10.00 for Non-Members. Appetizers & refreshments included. \nPlease RSVP by October 19th to harrowcolchestersouthchamber@gmail.com.
URL:https://visitharrow.ca/event/partners-in-progress-vehicle-electrification-fire-side-chat/
LOCATION:Colchester Community Centre\, 100 Jackson St.\, Harrow\, Ontario\, Harrow\, ON N0R 1G0\, Canada
CATEGORIES:Featured Event
ATTACH;FMTTYPE=image/jpeg:https://visitharrow.ca/wp-content/uploads/2023/10/andrew-roberts-2JvEjF0tf50-unsplash.jpg
END:VEVENT
BEGIN:VEVENT
DTSTART;TZID=America/Detroit:20230930T130000
DTEND;TZID=America/Detroit:20230930T173000
DTSTAMP:20260420T021332
CREATED:20230818T131945Z
LAST-MODIFIED:20230907T164823Z
UID:10000039-1696078800-1696095000@visitharrow.ca
SUMMARY:Project Hope Windsor-Essex - Hunt For Hope
DESCRIPTION:A community-wide scavenger hunt to raise funds for the Harrow Community Pantry! \nSaturday September 30th from 1-5:30pm. Teams of 3-6 players. Registration details coming soon. \nSponsors needed!
URL:https://visitharrow.ca/event/project-hope-windsor-essex-hunt-for-hope/
LOCATION:Harrow\, Ontario
CATEGORIES:Featured Event
ATTACH;FMTTYPE=image/jpeg:https://visitharrow.ca/wp-content/uploads/2023/08/hunt-for-hope.jpg
END:VEVENT
BEGIN:VEVENT
DTSTART;TZID=America/Detroit:20230929T170000
DTEND;TZID=America/Detroit:20230929T200000
DTSTAMP:20260420T021332
CREATED:20230131T230902Z
LAST-MODIFIED:20230918T164416Z
UID:10000034-1696006800-1696017600@visitharrow.ca
SUMMARY:"Open Streets" Harrow Friday September 29th from 5-8:00pm
DESCRIPTION:Following the success of our summer “Open Streets” event\, the Harrow and Colchester South Chamber of Commerce will be hosting another “Open Streets” on Friday\, September 29th from 5 to 8:00pm.  If you would like to put up a vendor booth for your business\, please send an email to Kristen.Merklinger@libro.ca.
URL:https://visitharrow.ca/event/open-streets-harrow-friday-september-29th-from-5-830pm/
CATEGORIES:Featured Event
ATTACH;FMTTYPE=image/jpeg:https://visitharrow.ca/wp-content/uploads/2021/01/chamber-event.jpg
END:VEVENT
BEGIN:VEVENT
DTSTART;TZID=America/Detroit:20230909T080000
DTEND;TZID=America/Detroit:20230909T140000
DTSTAMP:20260420T021332
CREATED:20230907T164949Z
LAST-MODIFIED:20230907T164949Z
UID:10000040-1694246400-1694268000@visitharrow.ca
SUMMARY:Harrow Rotary Club - Free Community Breakfast & BBQ
DESCRIPTION:Free Community Breakfast & Lunch BBQ this Saturday September 9th at our Rotary Hut. We will also be providing free fresh produce for anyone to take home. Our community has been through a lot but We Stand Strong Together! See you this Saturday from 8 am till about 2:00 pm. \nSpecial thanks to councillor Rodney Hammond for your support.
URL:https://visitharrow.ca/event/harrow-rotary-club-free-community-breakfast-bbq/
LOCATION:Harrow\, Ontario
CATEGORIES:Featured Event
ATTACH;FMTTYPE=image/png:https://visitharrow.ca/wp-content/uploads/2023/09/harrow-rotary.png
END:VEVENT
END:VCALENDAR