BEGIN:VCALENDAR
VERSION:2.0
PRODID:-//Harrow &amp; Colchester South Chamber of Commerce - ECPv6.15.20//NONSGML v1.0//EN
CALSCALE:GREGORIAN
METHOD:PUBLISH
X-WR-CALNAME:Harrow &amp; Colchester South Chamber of Commerce
X-ORIGINAL-URL:https://visitharrow.ca
X-WR-CALDESC:Events for Harrow &amp; Colchester South Chamber of Commerce
REFRESH-INTERVAL;VALUE=DURATION:PT1H
X-Robots-Tag:noindex
X-PUBLISHED-TTL:PT1H
BEGIN:VTIMEZONE
TZID:America/Detroit
BEGIN:DAYLIGHT
TZOFFSETFROM:-0500
TZOFFSETTO:-0400
TZNAME:EDT
DTSTART:20210314T070000
END:DAYLIGHT
BEGIN:STANDARD
TZOFFSETFROM:-0400
TZOFFSETTO:-0500
TZNAME:EST
DTSTART:20211107T060000
END:STANDARD
BEGIN:DAYLIGHT
TZOFFSETFROM:-0500
TZOFFSETTO:-0400
TZNAME:EDT
DTSTART:20220313T070000
END:DAYLIGHT
BEGIN:STANDARD
TZOFFSETFROM:-0400
TZOFFSETTO:-0500
TZNAME:EST
DTSTART:20221106T060000
END:STANDARD
BEGIN:DAYLIGHT
TZOFFSETFROM:-0500
TZOFFSETTO:-0400
TZNAME:EDT
DTSTART:20230312T070000
END:DAYLIGHT
BEGIN:STANDARD
TZOFFSETFROM:-0400
TZOFFSETTO:-0500
TZNAME:EST
DTSTART:20231105T060000
END:STANDARD
END:VTIMEZONE
BEGIN:VTIMEZONE
TZID:UTC
BEGIN:STANDARD
TZOFFSETFROM:+0000
TZOFFSETTO:+0000
TZNAME:UTC
DTSTART:20200101T000000
END:STANDARD
END:VTIMEZONE
BEGIN:VEVENT
DTSTART;TZID=America/Detroit:20220624T170000
DTEND;TZID=America/Detroit:20220624T200000
DTSTAMP:20260419T185122
CREATED:20220525T141503Z
LAST-MODIFIED:20220525T141503Z
UID:10000017-1656090000-1656100800@visitharrow.ca
SUMMARY:"Open Streets" Harrow Friday June 24th from 5-8pm
DESCRIPTION:The Harrow and Colchester South Chamber of Commerce will be hosting  an “Open Street” on Friday\, June 24th from 5 to 8 pm.  If you would like to put up a vendor booth for your business\, please send an email to tammy.affleck@libro.ca.
URL:https://visitharrow.ca/event/open-streets-harrow-friday-june-24th-from-5-8pm/
CATEGORIES:Featured Event
ATTACH;FMTTYPE=image/jpeg:https://visitharrow.ca/wp-content/uploads/2021/01/chamber-event.jpg
END:VEVENT
BEGIN:VEVENT
DTSTART;TZID=UTC:20220616T180000
DTEND;TZID=UTC:20220616T190000
DTSTAMP:20260419T185122
CREATED:20220317T202515Z
LAST-MODIFIED:20220317T162713Z
UID:10000016-1655402400-1655406000@visitharrow.ca
SUMMARY:Harrow and Colchester Chamber of Commerce - June Monthly Meeting
DESCRIPTION:We welcome you to attend our monthly meeting on Thursday June 16\, 2022 at the Zoom address below: \nTopic: Harrow and Colchester Chamber of Commerce\nTime: June 16\, 2022 06:00 PM Eastern Time (US and Canada) \nJoin Zoom Meeting\nhttps://us02web.zoom.us/j/81826454758?pwd=VGpXL0dkSnhoTXZJeVBPOWJ3WTN6Zz09 \nMeeting ID: 818 2645 4758\nPasscode: 305531
URL:https://visitharrow.ca/event/june-monthly-meeting/
LOCATION:Zoom
CATEGORIES:Featured Event
ATTACH;FMTTYPE=image/jpeg:https://visitharrow.ca/wp-content/uploads/2021/01/chamber-event.jpg
END:VEVENT
BEGIN:VEVENT
DTSTART;TZID=UTC:20220519T180000
DTEND;TZID=UTC:20220519T190000
DTSTAMP:20260419T185122
CREATED:20220317T162742Z
LAST-MODIFIED:20220317T162742Z
UID:10000015-1652983200-1652986800@visitharrow.ca
SUMMARY:Harrow and Colchester Chamber of Commerce - May Monthly Meeting
DESCRIPTION:We welcome you to attend our monthly meeting on Thursday May 19\, 2022 at the Zoom address below: \nTopic: Harrow and Colchester Chamber of Commerce\nTime: May 19\, 2022 06:00 PM Eastern Time (US and Canada) \nJoin Zoom Meeting\nhttps://us02web.zoom.us/j/82307443813?pwd=TzNvZ1Zsbkxnb004WGxPREloaXJBZz09 \nMeeting ID: 823 0744 3813\nPasscode: 232490
URL:https://visitharrow.ca/event/harrow-and-colchester-chamber-of-commerce-may-monthly-meeting-2/
LOCATION:Zoom
CATEGORIES:Featured Event
ATTACH;FMTTYPE=image/jpeg:https://visitharrow.ca/wp-content/uploads/2021/01/chamber-event.jpg
END:VEVENT
BEGIN:VEVENT
DTSTART;TZID=UTC:20220421T180000
DTEND;TZID=UTC:20220421T190000
DTSTAMP:20260419T185122
CREATED:20220316T212056Z
LAST-MODIFIED:20220317T202351Z
UID:10000014-1650564000-1650567600@visitharrow.ca
SUMMARY:Harrow and Colchester Chamber of Commerce - April Monthly Meeting
DESCRIPTION:We welcome you to attend our monthly meeting on Thursday April 21\, 2022 at the Zoom address below: \nTopic: Harrow and Colchester Chamber of Commerce\nTime: April 21\, 2022 06:00 PM Eastern Time (US and Canada) \nJoin Zoom Meeting\nhttps://us02web.zoom.us/j/71450850576?pwd=OElCaUQxTmRBcXFORWJYKytuY2swZz09 \nMeeting ID: 714 5085 0576\nPasscode: ev1qkW
URL:https://visitharrow.ca/event/april-monthly-meeting/
LOCATION:Zoom
CATEGORIES:Featured Event
ATTACH;FMTTYPE=image/jpeg:https://visitharrow.ca/wp-content/uploads/2021/01/chamber-event.jpg
END:VEVENT
BEGIN:VEVENT
DTSTART;TZID=UTC:20220224T180000
DTEND;TZID=UTC:20220224T190000
DTSTAMP:20260419T185122
CREATED:20220207T230213Z
LAST-MODIFIED:20220223T195030Z
UID:10000013-1645725600-1645729200@visitharrow.ca
SUMMARY:Harrow and Colchester Chamber of Commerce - February Monthly Meeting
DESCRIPTION:We welcome you to attend our monthly meeting on Thursday February 24\, 2022 at the Zoom address below: \nTopic: Harrow and Colchester Chamber of Commerce\nTime: February 24\, 2022 06:00 PM Eastern Time (US and Canada) \nJoin Zoom Meeting\nhttps://us02web.zoom.us/j/84679772818?pwd=TUlxcGNmZ3NsQk42MHVvcStSRTdsUT09 \nMeeting ID: 846 7977 2818\nPasscode: 997010 \nAgenda\n1. Call meeting to order\n2. Accept agenda\n3. Accept minutes from last meeting\n4. Financial report – Timos Patterson\n5. Council update – Sherry Bondy\n6. Harrow Health Centre Foundation\n7. Planning for the new year\n8. Any additional items or new business?
URL:https://visitharrow.ca/event/harrow-and-colchester-chamber-of-commerce-february-monthly-meeting/
LOCATION:Zoom
CATEGORIES:Featured Event
ATTACH;FMTTYPE=image/jpeg:https://visitharrow.ca/wp-content/uploads/2021/01/chamber-event.jpg
END:VEVENT
BEGIN:VEVENT
DTSTART;TZID=UTC:20220120T180000
DTEND;TZID=UTC:20220120T190000
DTSTAMP:20260419T185122
CREATED:20211224T194554Z
LAST-MODIFIED:20220119T195604Z
UID:10000011-1642701600-1642705200@visitharrow.ca
SUMMARY:Harrow and Colchester South Chamber of Commerce AGM 2022
DESCRIPTION:Please feel welcome to attend the Harrow and Colchester South Chamber of Commerce AGM on January 20th 2022 at 6:00 pm.  We are looking for business owners who are passionate about our community to attend some of our meetings and would love to hear your suggestions. We are also looking for Harrow and Colchester business owners who would be interested joining the Chamber and encourage you to do so on our new website https://visitharrow.ca/. \nJoin Zoom Meeting\nhttps://us04web.zoom.us/j/71450850576?pwd=OElCaUQxTmRBcXFORWJYKytuY2swZz09 \nMeeting ID: 714 5085 0576\nPasscode: ev1qkW
URL:https://visitharrow.ca/event/harrow-and-colchester-south-chamber-of-commerce-agm-2022/
LOCATION:Zoom
CATEGORIES:Featured Event
ATTACH;FMTTYPE=image/jpeg:https://visitharrow.ca/wp-content/uploads/2021/01/chamber-event.jpg
END:VEVENT
BEGIN:VEVENT
DTSTART;TZID=UTC:20211231T180000
DTEND;TZID=UTC:20211231T213000
DTSTAMP:20260419T185122
CREATED:20211229T201141Z
LAST-MODIFIED:20211229T201601Z
UID:10000012-1640973600-1640986200@visitharrow.ca
SUMMARY:Free New Year’s Eve Family Event at Harrow Arena
DESCRIPTION:The Town of Essex will sponsor Free Public Skating from 6:00pm to 8:00pm. \nOutside on stage the Harrow & Colchester South Chamber of Commerce is sponsoring Jangle The Clown and his Balloon Show from 6:00 to 8:30pm. \nOther notes:\nOutdoor Road Hockey: 6:00 to 8:30pm\nBall Drop: 9:00pm\nFireworks Start: 9:01pm \nPlease dress warm as this is an outdoor event and due to COVID-19 there will be no food or drinks. Please wear your masks.  \nVolunteers needed from 5:45 to 9:00pm! Please contact Dennis Mclean at 519-977-4953.
URL:https://visitharrow.ca/event/free-new-years-eve-family-event-at-harrow-arena/
LOCATION:Harrow Arena\, 243 McAffee St.\, Harrow\, Ontario\, N0R 1G0\, Canada
CATEGORIES:Featured Event
ATTACH;FMTTYPE=image/jpeg:https://visitharrow.ca/wp-content/uploads/2021/12/2022-web-family-event.jpg
END:VEVENT
BEGIN:VEVENT
DTSTART;TZID=UTC:20211203T180000
DTEND;TZID=UTC:20211203T200000
DTSTAMP:20260419T185122
CREATED:20211129T204800Z
LAST-MODIFIED:20211129T204817Z
UID:10000010-1638554400-1638561600@visitharrow.ca
SUMMARY:Christmas Tree Lighting Event
DESCRIPTION:Join us for our Christmas Tree Lighting Event Friday December 3rd from 6-8pm at Veterans Memorial Park! Libro Credit Union will be sponsoring live music from the Oxley Duo and together we would encourage you to stay downtown and shop local! \nMore details: https://visitharrow.ca/wp-content/uploads/2021/11/Chamber-Tree-lighting-Nov-30.pdf
URL:https://visitharrow.ca/event/christmas-tree-lighting-event/
LOCATION:Veterans Memorial Park\, 28 King St. W\, Harrow\, Canada
CATEGORIES:Featured Event
ATTACH;FMTTYPE=image/jpeg:https://visitharrow.ca/wp-content/uploads/2021/11/Chamber-Tree-lighting-Nov-30.jpg
END:VEVENT
BEGIN:VEVENT
DTSTART;TZID=UTC:20211002T120000
DTEND;TZID=UTC:20211002T160000
DTSTAMP:20260419T185122
CREATED:20210916T172324Z
LAST-MODIFIED:20210916T172422Z
UID:10000009-1633176000-1633190400@visitharrow.ca
SUMMARY:Harvest HOPE Walk-A-Thon
DESCRIPTION:In celebration of the Harrow Community Pantry being open for one year\, Project HOPE Windsor Essex is hosting a fundraising walk-a-thon! In addition to donations of goods received from our community\, $600 is spent weekly on average to keep the pantry stocked. Monetary donations keep the pantry open and plentiful to help feed our community.  \nSaturday\, October 2nd 2021\n12:00pm – 4:00pm\nHarrow Soccer Complex (2225 Roseborough)\nWalk individually or as a team of 4 or more.\nAll ages welcome.\nRegistration: $5.00 per person.\nParticipants are encouraged to collect pledges\, using the form available on the registration page. \nRegister Here: https://docs.google.com/forms/d/e/1FAIpQLSc7exRF4fxnQc_IJc9Q4YSP16y2caz2q5eVt5JUlS8DRq-BQQ/viewform
URL:https://visitharrow.ca/event/harvest-hope-walk-a-thon/
LOCATION:Harrow Soccer Complex\, 2225 Roseborough Rd\, Harrow\, Ontario\, N0R 1G0\, Canada
CATEGORIES:Featured Event
ATTACH;FMTTYPE=image/jpeg:https://visitharrow.ca/wp-content/uploads/2021/09/FALL-WALK-A-THON_FB.jpg
END:VEVENT
BEGIN:VEVENT
DTSTART;TZID=UTC:20210918T110000
DTEND;TZID=UTC:20210918T150000
DTSTAMP:20260419T185122
CREATED:20210914T002125Z
LAST-MODIFIED:20210914T002234Z
UID:10000008-1631962800-1631977200@visitharrow.ca
SUMMARY:Fall Harvest Drive Through
DESCRIPTION:In Colchester and Harrow it’s Fall Harvest Time at our local Farms\, Orchards and Wineries. Come and experience Fall Harvest at two of our local farms! \nSaturday\, September 18th from 11am to 3pm Visit the Green Energy Farms of: \nDennis & Peggy Mclean\n1025 Dunn Rd. \nMurdo & Marilyn McLean\n1263 Gore Rd. \nSee the Animals in our Drive-thru barn! Learn how Green Energy is being used on the farm crops\, grains and the newest crops of winter Canola!  \nAn Agricultural Education Event\nWelcome Autumn with this enjoyable family outing! \nFULL POSTER AVAILABLE HERE
URL:https://visitharrow.ca/event/fall-harvest-drive-through/
CATEGORIES:Featured Event
ATTACH;FMTTYPE=image/jpeg:https://visitharrow.ca/wp-content/uploads/2021/09/fall-harvest-drive-thru.jpg
END:VEVENT
BEGIN:VEVENT
DTSTART;TZID=UTC:20210916T180000
DTEND;TZID=UTC:20210916T190000
DTSTAMP:20260419T185122
CREATED:20210914T000812Z
LAST-MODIFIED:20210914T001225Z
UID:10000007-1631815200-1631818800@visitharrow.ca
SUMMARY:Harrow and Colchester Chamber of Commerce - September Monthly Meeting
DESCRIPTION:If you are a business owner or work for a business in Harrow or Colchester and would like to be considered for the Board of Directors for the Harrow and Colchester South Chamber of Commerce please attend our meeting on Thursday September 16th at 6:00pm. \nTopic: Harrow and Colchester Chamber of Commerce\nTime: May 20\, 2021 06:00 PM Eastern Time (US and Canada) \nJoin Zoom Meeting\nhttps://us04web.zoom.us/j/71450850576?pwd=OElCaUQxTmRBcXFORWJYKytuY2swZz09 \nMeeting ID: 714 5085 0576\nPasscode: ev1qkW
URL:https://visitharrow.ca/event/harrow-and-colchester-chamber-of-commerce-september-monthly-meeting/
LOCATION:Zoom
CATEGORIES:Featured Event
ATTACH;FMTTYPE=image/jpeg:https://visitharrow.ca/wp-content/uploads/2021/01/chamber-event.jpg
END:VEVENT
BEGIN:VEVENT
DTSTART;TZID=UTC:20210520T180000
DTEND;TZID=UTC:20210520T190000
DTSTAMP:20260419T185122
CREATED:20210514T210438Z
LAST-MODIFIED:20210517T162417Z
UID:10000006-1621533600-1621537200@visitharrow.ca
SUMMARY:Harrow and Colchester Chamber of Commerce - May Monthly Meeting
DESCRIPTION:We welcome you to attend our monthly meeting on Thursday\, May 20th\, 2021 at the Zoom address below: \nTopic: Harrow and Colchester Chamber of Commerce\nTime: May 20\, 2021 06:00 PM Eastern Time (US and Canada) \nJoin Zoom Meeting\nhttps://us04web.zoom.us/j/71450850576?pwd=OElCaUQxTmRBcXFORWJYKytuY2swZz09 \nMeeting ID: 714 5085 0576\nPasscode: ev1qkW
URL:https://visitharrow.ca/event/harrow-and-colchester-chamber-of-commerce-may-monthly-meeting/
LOCATION:Zoom
CATEGORIES:Featured Event
ATTACH;FMTTYPE=image/jpeg:https://visitharrow.ca/wp-content/uploads/2021/01/chamber-event.jpg
END:VEVENT
BEGIN:VEVENT
DTSTART;TZID=UTC:20210512T190000
DTEND;TZID=UTC:20210512T210000
DTSTAMP:20260419T185122
CREATED:20210503T194603Z
LAST-MODIFIED:20210503T194603Z
UID:10000005-1620846000-1620853200@visitharrow.ca
SUMMARY:Rotary Club of Harrow - Investing in Your Mental Health for You and Your Circle of Care
DESCRIPTION:Join us as we virtually sit down with our esteemed panelists who will engage our audience in an important discussion around mental health. \nDate: May 12\, 2021 Time: 7:00 pm (EST) \nRegister here.
URL:https://visitharrow.ca/event/rotary-club-of-harrow-investing-in-your-mental-health-for-you-and-your-circle-of-care/
LOCATION:Zoom
CATEGORIES:Featured Event
ATTACH;FMTTYPE=image/jpeg:https://visitharrow.ca/wp-content/uploads/2021/05/Fireside-Chat-May-12th.jpg
END:VEVENT
BEGIN:VEVENT
DTSTART;TZID=UTC:20210415T180000
DTEND;TZID=UTC:20210415T190000
DTSTAMP:20260419T185122
CREATED:20210407T031532Z
LAST-MODIFIED:20210407T031650Z
UID:10000004-1618509600-1618513200@visitharrow.ca
SUMMARY:Harrow and Colchester Chamber of Commerce - April Monthly Meeting
DESCRIPTION:We welcome you to attend our monthly meeting on Thursday\, April 15th\, 2021 at the Zoom address below: \nTopic: Harrow and Colchester Chamber of Commerce\nTime: Apr 15\, 2021 06:00 PM Eastern Time (US and Canada) \nJoin Zoom Meeting\nhttps://us04web.zoom.us/j/71450850576?pwd=OElCaUQxTmRBcXFORWJYKytuY2swZz09 \nMeeting ID: 714 5085 0576\nPasscode: ev1qkW
URL:https://visitharrow.ca/event/harrow-and-colchester-chamber-of-commerce-april-monthly-meeting/
LOCATION:Zoom
END:VEVENT
BEGIN:VEVENT
DTSTART;TZID=UTC:20210325T180000
DTEND;TZID=UTC:20210325T190000
DTSTAMP:20260419T185122
CREATED:20210317T155453Z
LAST-MODIFIED:20210317T155453Z
UID:10000003-1616695200-1616698800@visitharrow.ca
SUMMARY:Harrow and Colchester Chamber of Commerce - Monthly Meeting
DESCRIPTION:We welcome you to attend our monthly meeting on Thursday\, March 25th\, 2021 at the Zoom address below: \nTopic: Harrow and Colchester Chamber of Commerce\nTime: Mar 25\, 2021 06:00 PM Eastern Time (US and Canada) \nJoin Zoom Meeting\nhttps://us04web.zoom.us/j/75847086860?pwd=OXRPczdvZUZTUGtENDNDV0R1ZTdPQT09 \nMeeting ID: 758 4708 6860\nPasscode: Fd4z9N
URL:https://visitharrow.ca/event/harrow-and-colchester-chamber-of-commerce-monthly-meeting/
LOCATION:Zoom
END:VEVENT
BEGIN:VEVENT
DTSTART;TZID=UTC:20210121T180000
DTEND;TZID=UTC:20210121T190000
DTSTAMP:20260419T185122
CREATED:20210106T194742Z
LAST-MODIFIED:20210106T194742Z
UID:10000002-1611252000-1611255600@visitharrow.ca
SUMMARY:Harrow and Colchester South Chamber of Commerce AGM 2021
DESCRIPTION:Please feel welcome to attend the Harrow and Colchester South Chamber of Commerce AGM on January 21st\, 2021 at 6:00 pm.  We are looking for business owners who are passionate about our community to attend some of our meetings and would love to hear your suggestions. We are also looking for Harrow and Colchester business owners who would be interested joining the Chamber and encourage you to do so on our new website https://visitharrow.ca/. \nhttps://us04web.zoom.us/j/72163726895?pwd=U2lkSzEwcU5UUjIxNk1YdENWb0hyUT09\nMeeting ID: 721 6372 6895\nPasscode: 8fkpi4
URL:https://visitharrow.ca/event/harrow-and-colchester-south-chamber-of-commerce-agm-2021/
LOCATION:Zoom
CATEGORIES:Featured Event
ATTACH;FMTTYPE=image/jpeg:https://visitharrow.ca/wp-content/uploads/2021/01/chamber-event.jpg
END:VEVENT
END:VCALENDAR