BEGIN:VCALENDAR
VERSION:2.0
PRODID:-//Harrow &amp; Colchester South Chamber of Commerce - ECPv6.15.20//NONSGML v1.0//EN
CALSCALE:GREGORIAN
METHOD:PUBLISH
X-ORIGINAL-URL:https://visitharrow.ca
X-WR-CALDESC:Events for Harrow &amp; Colchester South Chamber of Commerce
REFRESH-INTERVAL;VALUE=DURATION:PT1H
X-Robots-Tag:noindex
X-PUBLISHED-TTL:PT1H
BEGIN:VTIMEZONE
TZID:UTC
BEGIN:STANDARD
TZOFFSETFROM:+0000
TZOFFSETTO:+0000
TZNAME:UTC
DTSTART:20210101T000000
END:STANDARD
END:VTIMEZONE
BEGIN:VEVENT
DTSTART;TZID=UTC:20220120T180000
DTEND;TZID=UTC:20220120T190000
DTSTAMP:20260423T104727
CREATED:20211224T194554Z
LAST-MODIFIED:20220119T195604Z
UID:10000011-1642701600-1642705200@visitharrow.ca
SUMMARY:Harrow and Colchester South Chamber of Commerce AGM 2022
DESCRIPTION:Please feel welcome to attend the Harrow and Colchester South Chamber of Commerce AGM on January 20th 2022 at 6:00 pm.  We are looking for business owners who are passionate about our community to attend some of our meetings and would love to hear your suggestions. We are also looking for Harrow and Colchester business owners who would be interested joining the Chamber and encourage you to do so on our new website https://visitharrow.ca/. \nJoin Zoom Meeting\nhttps://us04web.zoom.us/j/71450850576?pwd=OElCaUQxTmRBcXFORWJYKytuY2swZz09 \nMeeting ID: 714 5085 0576\nPasscode: ev1qkW
URL:https://visitharrow.ca/event/harrow-and-colchester-south-chamber-of-commerce-agm-2022/
LOCATION:Zoom
CATEGORIES:Featured Event
ATTACH;FMTTYPE=image/jpeg:https://visitharrow.ca/wp-content/uploads/2021/01/chamber-event.jpg
END:VEVENT
END:VCALENDAR