BEGIN:VCALENDAR
VERSION:2.0
PRODID:-//Harrow &amp; Colchester South Chamber of Commerce - ECPv6.15.20//NONSGML v1.0//EN
CALSCALE:GREGORIAN
METHOD:PUBLISH
X-WR-CALNAME:Harrow &amp; Colchester South Chamber of Commerce
X-ORIGINAL-URL:https://visitharrow.ca
X-WR-CALDESC:Events for Harrow &amp; Colchester South Chamber of Commerce
REFRESH-INTERVAL;VALUE=DURATION:PT1H
X-Robots-Tag:noindex
X-PUBLISHED-TTL:PT1H
BEGIN:VTIMEZONE
TZID:UTC
BEGIN:STANDARD
TZOFFSETFROM:+0000
TZOFFSETTO:+0000
TZNAME:UTC
DTSTART:20210101T000000
END:STANDARD
END:VTIMEZONE
BEGIN:VTIMEZONE
TZID:America/Detroit
BEGIN:DAYLIGHT
TZOFFSETFROM:-0500
TZOFFSETTO:-0400
TZNAME:EDT
DTSTART:20210314T070000
END:DAYLIGHT
BEGIN:STANDARD
TZOFFSETFROM:-0400
TZOFFSETTO:-0500
TZNAME:EST
DTSTART:20211107T060000
END:STANDARD
BEGIN:DAYLIGHT
TZOFFSETFROM:-0500
TZOFFSETTO:-0400
TZNAME:EDT
DTSTART:20220313T070000
END:DAYLIGHT
BEGIN:STANDARD
TZOFFSETFROM:-0400
TZOFFSETTO:-0500
TZNAME:EST
DTSTART:20221106T060000
END:STANDARD
BEGIN:DAYLIGHT
TZOFFSETFROM:-0500
TZOFFSETTO:-0400
TZNAME:EDT
DTSTART:20230312T070000
END:DAYLIGHT
BEGIN:STANDARD
TZOFFSETFROM:-0400
TZOFFSETTO:-0500
TZNAME:EST
DTSTART:20231105T060000
END:STANDARD
END:VTIMEZONE
BEGIN:VEVENT
DTSTART;TZID=UTC:20220922T180000
DTEND;TZID=UTC:20220922T190000
DTSTAMP:20260420T225800
CREATED:20220916T132832Z
LAST-MODIFIED:20220916T133153Z
UID:10000023-1663869600-1663873200@visitharrow.ca
SUMMARY:Harrow and Colchester Chamber of Commerce - September Monthly Meeting
DESCRIPTION:We welcome you to attend our monthly meeting on Thursday September 22\, 2022 at the Zoom address below: \nTopic: Harrow and Colchester Chamber of Commerce\nTime: September 22\, 2022 06:00 PM Eastern Time (US and Canada) \nJoin Zoom Meeting\nhttps://us02web.zoom.us/j/85744690005?pwd=T0RhUG8rT2dOeUtFZkF2bUUyTEhLZz09 \nMeeting ID: 857 4469 0005\nPasscode: 613666
URL:https://visitharrow.ca/event/harrow-and-colchester-chamber-of-commerce-september-monthly-meeting-2/
LOCATION:Zoom
CATEGORIES:Featured Event
ATTACH;FMTTYPE=image/jpeg:https://visitharrow.ca/wp-content/uploads/2021/01/chamber-event.jpg
END:VEVENT
BEGIN:VEVENT
DTSTART;TZID=America/Detroit:20220930T170000
DTEND;TZID=America/Detroit:20220930T200000
DTSTAMP:20260420T225800
CREATED:20220907T171436Z
LAST-MODIFIED:20220907T171623Z
UID:10000001-1664557200-1664568000@visitharrow.ca
SUMMARY:"Open Streets" Harrow Friday September 30th from 5-8:30pm
DESCRIPTION:Following the success of our summer “Open Streets” event\, the Harrow and Colchester South Chamber of Commerce will be hosting another “Open Streets” on Friday\, September 30th from 5 to 8:30pm.  If you would like to put up a vendor booth for your business\, please send an email to tammy.affleck@libro.ca.
URL:https://visitharrow.ca/event/open-streets-harrow-friday-september-30th-from-5-830pm/
CATEGORIES:Featured Event
ATTACH;FMTTYPE=image/jpeg:https://visitharrow.ca/wp-content/uploads/2021/01/chamber-event.jpg
END:VEVENT
END:VCALENDAR