BEGIN:VCALENDAR
VERSION:2.0
PRODID:-//Harrow &amp; Colchester South Chamber of Commerce - ECPv6.15.20//NONSGML v1.0//EN
CALSCALE:GREGORIAN
METHOD:PUBLISH
X-ORIGINAL-URL:https://visitharrow.ca
X-WR-CALDESC:Events for Harrow &amp; Colchester South Chamber of Commerce
REFRESH-INTERVAL;VALUE=DURATION:PT1H
X-Robots-Tag:noindex
X-PUBLISHED-TTL:PT1H
BEGIN:VTIMEZONE
TZID:America/Detroit
BEGIN:DAYLIGHT
TZOFFSETFROM:-0500
TZOFFSETTO:-0400
TZNAME:EDT
DTSTART:20220313T070000
END:DAYLIGHT
BEGIN:STANDARD
TZOFFSETFROM:-0400
TZOFFSETTO:-0500
TZNAME:EST
DTSTART:20221106T060000
END:STANDARD
BEGIN:DAYLIGHT
TZOFFSETFROM:-0500
TZOFFSETTO:-0400
TZNAME:EDT
DTSTART:20230312T070000
END:DAYLIGHT
BEGIN:STANDARD
TZOFFSETFROM:-0400
TZOFFSETTO:-0500
TZNAME:EST
DTSTART:20231105T060000
END:STANDARD
BEGIN:DAYLIGHT
TZOFFSETFROM:-0500
TZOFFSETTO:-0400
TZNAME:EDT
DTSTART:20240310T070000
END:DAYLIGHT
BEGIN:STANDARD
TZOFFSETFROM:-0400
TZOFFSETTO:-0500
TZNAME:EST
DTSTART:20241103T060000
END:STANDARD
END:VTIMEZONE
BEGIN:VTIMEZONE
TZID:UTC
BEGIN:STANDARD
TZOFFSETFROM:+0000
TZOFFSETTO:+0000
TZNAME:UTC
DTSTART:20220101T000000
END:STANDARD
END:VTIMEZONE
BEGIN:VEVENT
DTSTART;TZID=America/Detroit:20230211T130000
DTEND;TZID=America/Detroit:20230211T180000
DTSTAMP:20260420T142822
CREATED:20230201T142710Z
LAST-MODIFIED:20230201T142856Z
UID:10000035-1676120400-1676138400@visitharrow.ca
SUMMARY:1st Annual Valentine's Day Ice Festival
DESCRIPTION:The Harrow Rotary Club and Harrow & Colchester South Chamber of Commerce welcome you to our 1st Annual Valentine’s Day Ice Festival at the Rotary Hut & Former Petro Lot. \nEvent will include:\n– Nat’s Apps and Wraps\n– Road Hockey\n– Football Toss\n– Live Ice Sculpture\n– 6′ Lighted Valentine’s Hearts for Photos\n– & much more!
URL:https://visitharrow.ca/event/1st-annual-valentines-day-ice-festival/
CATEGORIES:Featured Event
ATTACH;FMTTYPE=image/jpeg:https://visitharrow.ca/wp-content/uploads/2023/02/harrow-valentines-ice-festival.jpg
END:VEVENT
BEGIN:VEVENT
DTSTART;TZID=UTC:20230223T190000
DTEND;TZID=UTC:20230223T200000
DTSTAMP:20260420T142822
CREATED:20230131T225635Z
LAST-MODIFIED:20230210T163123Z
UID:10000030-1677178800-1677182400@visitharrow.ca
SUMMARY:Harrow and Colchester Chamber of Commerce - February Monthly Meeting
DESCRIPTION:We welcome you to attend our monthly meeting on Thursday February 23rd\, 2023 at the Zoom address below: \nTopic: Harrow and Colchester Chamber of Commerce Meeting\nTime: February 23\, 2023 07:00 PM Eastern Time (US and Canada) \nJoin Zoom Meeting\nhttps:/us02web.zoom.us/j/81927898419?pwd=Y1IwZy9CSEFQTTh6UFFBU0JjM3RjUT09 \nMeeting ID: 819 2789 8419\nPasscode: 666258
URL:https://visitharrow.ca/event/harrow-and-colchester-chamber-of-commerce-february-monthly-meeting-2/
LOCATION:Zoom
CATEGORIES:Featured Event
ATTACH;FMTTYPE=image/jpeg:https://visitharrow.ca/wp-content/uploads/2021/01/chamber-event.jpg
END:VEVENT
END:VCALENDAR