BEGIN:VCALENDAR
VERSION:2.0
PRODID:-//Harrow &amp; Colchester South Chamber of Commerce - ECPv6.15.20//NONSGML v1.0//EN
CALSCALE:GREGORIAN
METHOD:PUBLISH
X-ORIGINAL-URL:https://visitharrow.ca
X-WR-CALDESC:Events for Harrow &amp; Colchester South Chamber of Commerce
REFRESH-INTERVAL;VALUE=DURATION:PT1H
X-Robots-Tag:noindex
X-PUBLISHED-TTL:PT1H
BEGIN:VTIMEZONE
TZID:America/Detroit
BEGIN:DAYLIGHT
TZOFFSETFROM:-0500
TZOFFSETTO:-0400
TZNAME:EDT
DTSTART:20220313T070000
END:DAYLIGHT
BEGIN:STANDARD
TZOFFSETFROM:-0400
TZOFFSETTO:-0500
TZNAME:EST
DTSTART:20221106T060000
END:STANDARD
BEGIN:DAYLIGHT
TZOFFSETFROM:-0500
TZOFFSETTO:-0400
TZNAME:EDT
DTSTART:20230312T070000
END:DAYLIGHT
BEGIN:STANDARD
TZOFFSETFROM:-0400
TZOFFSETTO:-0500
TZNAME:EST
DTSTART:20231105T060000
END:STANDARD
BEGIN:DAYLIGHT
TZOFFSETFROM:-0500
TZOFFSETTO:-0400
TZNAME:EDT
DTSTART:20240310T070000
END:DAYLIGHT
BEGIN:STANDARD
TZOFFSETFROM:-0400
TZOFFSETTO:-0500
TZNAME:EST
DTSTART:20241103T060000
END:STANDARD
END:VTIMEZONE
BEGIN:VEVENT
DTSTART;TZID=America/Detroit:20230520T120000
DTEND;TZID=America/Detroit:20230520T180000
DTSTAMP:20260420T092747
CREATED:20230510T133028Z
LAST-MODIFIED:20230510T133028Z
UID:10000036-1684584000-1684605600@visitharrow.ca
SUMMARY:Spring Bloom & Boat Show
DESCRIPTION:Join us on May 20th from 12-6pm for our Spring Bloom & Boat Show presented by Rotary Club of Harrow. \nFamily fun for all ages featuring:\n– Plant sale & boat show\n– Local vendors\n– Scavenger hunt\n– Food\, refreshment & popcorn\n– Face painting \nLocation: Rotary Park (aka the old Petro Lot)
URL:https://visitharrow.ca/event/spring-bloom-boat-show/
LOCATION:Uptown Harrow (King St. & Victoria)\, King St & Victoria St\, Harrow\, Ontario\, Canada
CATEGORIES:Featured Event
ATTACH;FMTTYPE=image/jpeg:https://visitharrow.ca/wp-content/uploads/2023/05/boat-show-scaled.jpg
END:VEVENT
END:VCALENDAR