BEGIN:VCALENDAR
VERSION:2.0
PRODID:-//Harrow &amp; Colchester South Chamber of Commerce - ECPv6.15.20//NONSGML v1.0//EN
CALSCALE:GREGORIAN
METHOD:PUBLISH
X-WR-CALNAME:Harrow &amp; Colchester South Chamber of Commerce
X-ORIGINAL-URL:https://visitharrow.ca
X-WR-CALDESC:Events for Harrow &amp; Colchester South Chamber of Commerce
REFRESH-INTERVAL;VALUE=DURATION:PT1H
X-Robots-Tag:noindex
X-PUBLISHED-TTL:PT1H
BEGIN:VTIMEZONE
TZID:America/Detroit
BEGIN:DAYLIGHT
TZOFFSETFROM:-0500
TZOFFSETTO:-0400
TZNAME:EDT
DTSTART:20220313T070000
END:DAYLIGHT
BEGIN:STANDARD
TZOFFSETFROM:-0400
TZOFFSETTO:-0500
TZNAME:EST
DTSTART:20221106T060000
END:STANDARD
BEGIN:DAYLIGHT
TZOFFSETFROM:-0500
TZOFFSETTO:-0400
TZNAME:EDT
DTSTART:20230312T070000
END:DAYLIGHT
BEGIN:STANDARD
TZOFFSETFROM:-0400
TZOFFSETTO:-0500
TZNAME:EST
DTSTART:20231105T060000
END:STANDARD
BEGIN:DAYLIGHT
TZOFFSETFROM:-0500
TZOFFSETTO:-0400
TZNAME:EDT
DTSTART:20240310T070000
END:DAYLIGHT
BEGIN:STANDARD
TZOFFSETFROM:-0400
TZOFFSETTO:-0500
TZNAME:EST
DTSTART:20241103T060000
END:STANDARD
END:VTIMEZONE
BEGIN:VEVENT
DTSTART;TZID=America/Detroit:20230624T080000
DTEND;TZID=America/Detroit:20230624T160000
DTSTAMP:20260420T075611
CREATED:20230530T141600Z
LAST-MODIFIED:20230530T141715Z
UID:10000037-1687593600-1687622400@visitharrow.ca
SUMMARY:Soapbox Derby Coming to Harrow
DESCRIPTION:Essex – The Town of Essex is thrilled to partner with the Rotary Club of Harrow to host the Town’s first Soapbox Derby! Join us for a fun-filled day of races and family-friendly activities including a bouncy castle and kid-friendly activities. \nDate: June 24\, 2023\nTime: 8a.m. to 4p.m.\nLocation: King Street\, Harrow \n*Rain Date: July 25. Follow the Town of Essex Facebook and Twitter Account for updates.  \n“We are excited to bring the Soapbox Derby to the streets of Harrow for the first time!” said Sherry Bondy\, Mayor. “I encourage our youth to get creative and enter this unique event. It is sure to be a fun time for all.” \nIndividuals interested in racing are asked to contact the Homebuilt Soapbox Racing Association for details and registration. \nAll vehicles/racers must meet the following regulations: \n\nOpen to individuals 6 to 16 years of age.\nVehicle must be no wider than 36 inches.\nVehicle must be no longer than 7 feet.\nVehicle must be at least 6 inches off ground.\nVehicle cannot be taller than 36 inches.\nCar and driver must weigh less than 200lbs combined.\nVehicle must have 4 wheels and working brakes.\nAll drivers must have a helmet (bicycle\, hockey\, atv\, etc.)\nIn partnership with the Rotary Club of Harrow.
URL:https://visitharrow.ca/event/soapbox-derby-coming-to-harrow/
ATTACH;FMTTYPE=image/png:https://visitharrow.ca/wp-content/uploads/2023/05/SoapBox_WebBanner.png
END:VEVENT
BEGIN:VEVENT
DTSTART;TZID=America/Detroit:20230624T110000
DTEND;TZID=America/Detroit:20230624T123000
DTSTAMP:20260420T075611
CREATED:20230608T135906Z
LAST-MODIFIED:20230608T135906Z
UID:10000038-1687604400-1687609800@visitharrow.ca
SUMMARY:Harrow's Miracle Food Drive
DESCRIPTION:On June 24th\, the Harrow Community Pantry volunteers will join other community groups to collect non-perishable\, cleaning and self-care items during Harrow’s Miracle Food Drive. \nCommunity members in the Harrow Core\, Colchester Village\, and on the beach roads between Meadows Road and Arner Townline are encouraged to leave their items on their porch\, front step or sidewalk before 11AM.  Donations will be collected between 11AM-12:30PM.  \nRural drop-off locations are also available before 11AM on June 24th.  These drop-off points are: \n\nHarrow Agricultural Building\nHarrow Mennonite Church\nHarrow Home Hardware\nThe Feed Store\nAll donations collected during Harrow’s Miracle Food Drive will be split between the Harrow Community Pantry and the Harrow Food Bank.
URL:https://visitharrow.ca/event/harrows-miracle-food-drive/
CATEGORIES:Featured Event
ATTACH;FMTTYPE=image/jpeg:https://visitharrow.ca/wp-content/uploads/2023/06/harrow-food-drive.jpg
END:VEVENT
BEGIN:VEVENT
DTSTART;TZID=America/Detroit:20230630T170000
DTEND;TZID=America/Detroit:20230630T200000
DTSTAMP:20260420T075611
CREATED:20230131T230824Z
LAST-MODIFIED:20230609T134458Z
UID:10000033-1688144400-1688155200@visitharrow.ca
SUMMARY:"Open Streets" Harrow Friday June 30th from 5-8pm
DESCRIPTION:The Harrow and Colchester South Chamber of Commerce will be hosting  an “Open Street” on Friday\, June 30th from 5 to 8 pm.  If you would like to put up a vendor booth for your business\, please send an email to Kristen.Merklinger@libro.ca.
URL:https://visitharrow.ca/event/open-streets-harrow-friday-june-30th-from-5-8pm/
CATEGORIES:Featured Event
ATTACH;FMTTYPE=image/jpeg:https://visitharrow.ca/wp-content/uploads/2023/01/OPEN-STREETS-2023.jpg
END:VEVENT
END:VCALENDAR