BEGIN:VCALENDAR
VERSION:2.0
PRODID:-//Harrow &amp; Colchester South Chamber of Commerce - ECPv6.15.20//NONSGML v1.0//EN
CALSCALE:GREGORIAN
METHOD:PUBLISH
X-WR-CALNAME:Harrow &amp; Colchester South Chamber of Commerce
X-ORIGINAL-URL:https://visitharrow.ca
X-WR-CALDESC:Events for Harrow &amp; Colchester South Chamber of Commerce
REFRESH-INTERVAL;VALUE=DURATION:PT1H
X-Robots-Tag:noindex
X-PUBLISHED-TTL:PT1H
BEGIN:VTIMEZONE
TZID:America/Detroit
BEGIN:DAYLIGHT
TZOFFSETFROM:-0500
TZOFFSETTO:-0400
TZNAME:EDT
DTSTART:20220313T070000
END:DAYLIGHT
BEGIN:STANDARD
TZOFFSETFROM:-0400
TZOFFSETTO:-0500
TZNAME:EST
DTSTART:20221106T060000
END:STANDARD
BEGIN:DAYLIGHT
TZOFFSETFROM:-0500
TZOFFSETTO:-0400
TZNAME:EDT
DTSTART:20230312T070000
END:DAYLIGHT
BEGIN:STANDARD
TZOFFSETFROM:-0400
TZOFFSETTO:-0500
TZNAME:EST
DTSTART:20231105T060000
END:STANDARD
BEGIN:DAYLIGHT
TZOFFSETFROM:-0500
TZOFFSETTO:-0400
TZNAME:EDT
DTSTART:20240310T070000
END:DAYLIGHT
BEGIN:STANDARD
TZOFFSETFROM:-0400
TZOFFSETTO:-0500
TZNAME:EST
DTSTART:20241103T060000
END:STANDARD
END:VTIMEZONE
BEGIN:VEVENT
DTSTART;TZID=America/Detroit:20231026T190000
DTEND;TZID=America/Detroit:20231026T210000
DTSTAMP:20260420T012620
CREATED:20231005T011846Z
LAST-MODIFIED:20231011T130544Z
UID:10000041-1698346800-1698354000@visitharrow.ca
SUMMARY:Partners in Progress - Vehicle Electrification Fire Side Chat
DESCRIPTION:Join us for our “Partners in Progress” – Vehicle Electrification Fire Side Chat with Dan Vincent on October 26th\, 2023 at the Colchester Community Centre. \nLet’s dive into the topic of Vehicle Electrification and Electric Vehicles (EVs)\, covering their history\, types\, operation\, consumer concerns and EV battery charging. We’ll also discuss different charger types\, levels\, their advantages and disadvantages and the cost of use. Finally\, we’ll explore how to create an Electric Vehicle charging event to promote EV adoption and increase foot traffic. \nSpeaker Details:\nDan Vincent\n– Vehicle Electrification Professor\n– North America Certified\n– EVPro – SAE Electric Vehicle Level 1\n– Electric Vehicle Certified Instructor\n– Switch Vehicle\n– Legacy EV Electric Vehicle Technician Certification \nFree for Members of the Harrow & Colchester South Chamber of Commerce and $10.00 for Non-Members. Appetizers & refreshments included. \nPlease RSVP by October 19th to harrowcolchestersouthchamber@gmail.com.
URL:https://visitharrow.ca/event/partners-in-progress-vehicle-electrification-fire-side-chat/
LOCATION:Colchester Community Centre\, 100 Jackson St.\, Harrow\, Ontario\, Harrow\, ON N0R 1G0\, Canada
CATEGORIES:Featured Event
ATTACH;FMTTYPE=image/jpeg:https://visitharrow.ca/wp-content/uploads/2023/10/andrew-roberts-2JvEjF0tf50-unsplash.jpg
END:VEVENT
END:VCALENDAR