BEGIN:VCALENDAR
VERSION:2.0
PRODID:-//Harrow &amp; Colchester South Chamber of Commerce - ECPv6.15.20//NONSGML v1.0//EN
CALSCALE:GREGORIAN
METHOD:PUBLISH
X-WR-CALNAME:Harrow &amp; Colchester South Chamber of Commerce
X-ORIGINAL-URL:https://visitharrow.ca
X-WR-CALDESC:Events for Harrow &amp; Colchester South Chamber of Commerce
REFRESH-INTERVAL;VALUE=DURATION:PT1H
X-Robots-Tag:noindex
X-PUBLISHED-TTL:PT1H
BEGIN:VTIMEZONE
TZID:America/Detroit
BEGIN:DAYLIGHT
TZOFFSETFROM:-0500
TZOFFSETTO:-0400
TZNAME:EDT
DTSTART:20220313T070000
END:DAYLIGHT
BEGIN:STANDARD
TZOFFSETFROM:-0400
TZOFFSETTO:-0500
TZNAME:EST
DTSTART:20221106T060000
END:STANDARD
BEGIN:DAYLIGHT
TZOFFSETFROM:-0500
TZOFFSETTO:-0400
TZNAME:EDT
DTSTART:20230312T070000
END:DAYLIGHT
BEGIN:STANDARD
TZOFFSETFROM:-0400
TZOFFSETTO:-0500
TZNAME:EST
DTSTART:20231105T060000
END:STANDARD
BEGIN:DAYLIGHT
TZOFFSETFROM:-0500
TZOFFSETTO:-0400
TZNAME:EDT
DTSTART:20240310T070000
END:DAYLIGHT
BEGIN:STANDARD
TZOFFSETFROM:-0400
TZOFFSETTO:-0500
TZNAME:EST
DTSTART:20241103T060000
END:STANDARD
END:VTIMEZONE
BEGIN:VEVENT
DTSTART;TZID=America/Detroit:20230120T180000
DTEND;TZID=America/Detroit:20230120T200000
DTSTAMP:20260419T150129
CREATED:20230106T181815Z
LAST-MODIFIED:20230106T181815Z
UID:10000029-1674237600-1674244800@visitharrow.ca
SUMMARY:Photography Exhibition & Auction
DESCRIPTION:36 local photographers have generously donated 46 entries in support of local art and to raise valuable funds for charities that endeavour to help those in need.
URL:https://visitharrow.ca/event/photography-exhibition-auction/
LOCATION:Carnegie Arts & Visitor Centre\, 28 Division St.\, Kingsville\, Ontario\, Canada
ATTACH;FMTTYPE=image/jpeg:https://visitharrow.ca/wp-content/uploads/2023/01/Poster-as-of-Dec-31.jpg
END:VEVENT
END:VCALENDAR